BEGIN:VCALENDAR
VERSION:2.0
PRODID:-//Spokane Montessori School - ECPv6.15.20//NONSGML v1.0//EN
CALSCALE:GREGORIAN
METHOD:PUBLISH
X-WR-CALNAME:Spokane Montessori School
X-ORIGINAL-URL:https://spokanemontessori.com
X-WR-CALDESC:Events for Spokane Montessori School
REFRESH-INTERVAL;VALUE=DURATION:PT1H
X-Robots-Tag:noindex
X-PUBLISHED-TTL:PT1H
BEGIN:VTIMEZONE
TZID:America/Los_Angeles
BEGIN:DAYLIGHT
TZOFFSETFROM:-0800
TZOFFSETTO:-0700
TZNAME:PDT
DTSTART:20240310T100000
END:DAYLIGHT
BEGIN:STANDARD
TZOFFSETFROM:-0700
TZOFFSETTO:-0800
TZNAME:PST
DTSTART:20241103T090000
END:STANDARD
BEGIN:DAYLIGHT
TZOFFSETFROM:-0800
TZOFFSETTO:-0700
TZNAME:PDT
DTSTART:20250309T100000
END:DAYLIGHT
BEGIN:STANDARD
TZOFFSETFROM:-0700
TZOFFSETTO:-0800
TZNAME:PST
DTSTART:20251102T090000
END:STANDARD
BEGIN:DAYLIGHT
TZOFFSETFROM:-0800
TZOFFSETTO:-0700
TZNAME:PDT
DTSTART:20260308T100000
END:DAYLIGHT
BEGIN:STANDARD
TZOFFSETFROM:-0700
TZOFFSETTO:-0800
TZNAME:PST
DTSTART:20261101T090000
END:STANDARD
BEGIN:DAYLIGHT
TZOFFSETFROM:-0800
TZOFFSETTO:-0700
TZNAME:PDT
DTSTART:20270314T100000
END:DAYLIGHT
BEGIN:STANDARD
TZOFFSETFROM:-0700
TZOFFSETTO:-0800
TZNAME:PST
DTSTART:20271107T090000
END:STANDARD
END:VTIMEZONE
BEGIN:VEVENT
DTSTART;VALUE=DATE:20260703
DTEND;VALUE=DATE:20260704
DTSTAMP:20260424T171337
CREATED:20250725T215537Z
LAST-MODIFIED:20250725T215537Z
UID:2087-1783036800-1783123199@spokanemontessori.com
SUMMARY:Closed
DESCRIPTION:
URL:https://spokanemontessori.com/calendar/closed-3/
CATEGORIES:Closure
END:VEVENT
BEGIN:VEVENT
DTSTART;VALUE=DATE:20260629
DTEND;VALUE=DATE:20260701
DTSTAMP:20260424T171337
CREATED:20250725T215358Z
LAST-MODIFIED:20250725T215358Z
UID:2080-1782691200-1782863999@spokanemontessori.com
SUMMARY:School Closed
DESCRIPTION:Teacher in-service days!
URL:https://spokanemontessori.com/calendar/school-closed/
CATEGORIES:Closure
END:VEVENT
BEGIN:VEVENT
DTSTART;TZID=America/Los_Angeles:20260626T130000
DTEND;TZID=America/Los_Angeles:20260626T130000
DTSTAMP:20260424T171337
CREATED:20250725T215317Z
LAST-MODIFIED:20250725T215317Z
UID:2077-1782478800-1782478800@spokanemontessori.com
SUMMARY:Early Closure
DESCRIPTION:
URL:https://spokanemontessori.com/calendar/early-closure-15/
END:VEVENT
BEGIN:VEVENT
DTSTART;TZID=America/Los_Angeles:20260626T110000
DTEND;TZID=America/Los_Angeles:20260626T130000
DTSTAMP:20260424T171337
CREATED:20250725T215241Z
LAST-MODIFIED:20250725T215241Z
UID:2074-1782471600-1782478800@spokanemontessori.com
SUMMARY:End of the year Picnic and Kindergarten Graduation!
DESCRIPTION:
URL:https://spokanemontessori.com/calendar/end-of-the-year-picnic-and-kindergarten-graduation-2/
END:VEVENT
BEGIN:VEVENT
DTSTART;TZID=America/Los_Angeles:20260625T100000
DTEND;TZID=America/Los_Angeles:20260625T140000
DTSTAMP:20260424T171337
CREATED:20250725T215143Z
LAST-MODIFIED:20250725T215143Z
UID:2071-1782381600-1782396000@spokanemontessori.com
SUMMARY:Kindergarten Field Trip!
DESCRIPTION:Parents and kids attend!
URL:https://spokanemontessori.com/calendar/kindergarten-field-trip-2/
END:VEVENT
BEGIN:VEVENT
DTSTART;TZID=America/Los_Angeles:20260622T163000
DTEND;TZID=America/Los_Angeles:20260622T163000
DTSTAMP:20260424T171337
CREATED:20250725T215100Z
LAST-MODIFIED:20250725T215100Z
UID:2068-1782145800-1782145800@spokanemontessori.com
SUMMARY:Early closure
DESCRIPTION:
URL:https://spokanemontessori.com/calendar/early-closure-14/
END:VEVENT
BEGIN:VEVENT
DTSTART;VALUE=DATE:20260619
DTEND;VALUE=DATE:20260620
DTSTAMP:20260424T171337
CREATED:20250725T214953Z
LAST-MODIFIED:20250725T215021Z
UID:2064-1781827200-1781913599@spokanemontessori.com
SUMMARY:Juneteenth - Closed
DESCRIPTION:
URL:https://spokanemontessori.com/calendar/early-closure-13/
CATEGORIES:Closure
END:VEVENT
BEGIN:VEVENT
DTSTART;VALUE=DATE:20260525
DTEND;VALUE=DATE:20260526
DTSTAMP:20260424T171337
CREATED:20250725T214905Z
LAST-MODIFIED:20250725T214905Z
UID:2061-1779667200-1779753599@spokanemontessori.com
SUMMARY:Memorial Day – Closed
DESCRIPTION:
URL:https://spokanemontessori.com/calendar/memorial-day-closed/
CATEGORIES:Closure
END:VEVENT
BEGIN:VEVENT
DTSTART;TZID=America/Los_Angeles:20260513T150000
DTEND;TZID=America/Los_Angeles:20260513T170000
DTSTAMP:20260424T171337
CREATED:20250725T214824Z
LAST-MODIFIED:20250725T214824Z
UID:2058-1778684400-1778691600@spokanemontessori.com
SUMMARY:Montessori Showcase
DESCRIPTION:Family members welcome!
URL:https://spokanemontessori.com/calendar/montessori-showcase-2/
END:VEVENT
BEGIN:VEVENT
DTSTART;TZID=America/Los_Angeles:20260425T080000
DTEND;TZID=America/Los_Angeles:20260425T090000
DTSTAMP:20260424T171337
CREATED:20250722T235501Z
LAST-MODIFIED:20250722T235501Z
UID:2051-1777104000-1777107600@spokanemontessori.com
SUMMARY:Montessori and Muffins
DESCRIPTION:
URL:https://spokanemontessori.com/calendar/montessori-and-muffins-6/
END:VEVENT
BEGIN:VEVENT
DTSTART;VALUE=DATE:20260406
DTEND;VALUE=DATE:20260411
DTSTAMP:20260424T171337
CREATED:20250722T235430Z
LAST-MODIFIED:20250722T235430Z
UID:2048-1775433600-1775865599@spokanemontessori.com
SUMMARY:Spring Break! – Closed
DESCRIPTION:
URL:https://spokanemontessori.com/calendar/spring-break-closed/
CATEGORIES:Closure
END:VEVENT
BEGIN:VEVENT
DTSTART;TZID=America/Los_Angeles:20260328T080000
DTEND;TZID=America/Los_Angeles:20260328T090000
DTSTAMP:20260424T171337
CREATED:20250722T235346Z
LAST-MODIFIED:20250722T235359Z
UID:2045-1774684800-1774688400@spokanemontessori.com
SUMMARY:Montessori and Muffins
DESCRIPTION:
URL:https://spokanemontessori.com/calendar/montessori-and-muffins-5/
END:VEVENT
BEGIN:VEVENT
DTSTART;VALUE=DATE:20260327
DTEND;VALUE=DATE:20260328
DTSTAMP:20260424T171337
CREATED:20250722T235239Z
LAST-MODIFIED:20250722T235239Z
UID:2040-1774569600-1774655999@spokanemontessori.com
SUMMARY:Parent / Teacher Conferences
DESCRIPTION:(Sign ups required) – Non-student day
URL:https://spokanemontessori.com/calendar/parent-teacher-conferences-4/
END:VEVENT
BEGIN:VEVENT
DTSTART;TZID=America/Los_Angeles:20260323T163000
DTEND;TZID=America/Los_Angeles:20260323T163000
DTSTAMP:20260424T171337
CREATED:20250722T235129Z
LAST-MODIFIED:20250722T235129Z
UID:2035-1774283400-1774283400@spokanemontessori.com
SUMMARY:Early Closure
DESCRIPTION:
URL:https://spokanemontessori.com/calendar/early-closure-11/
END:VEVENT
BEGIN:VEVENT
DTSTART;TZID=America/Los_Angeles:20260307T100000
DTEND;TZID=America/Los_Angeles:20260307T170000
DTSTAMP:20260424T171337
CREATED:20250722T235053Z
LAST-MODIFIED:20250722T235053Z
UID:2032-1772877600-1772902800@spokanemontessori.com
SUMMARY:Open House for Prospective Families
DESCRIPTION:Tell your friends!
URL:https://spokanemontessori.com/calendar/open-house-for-prospective-families-2/
END:VEVENT
BEGIN:VEVENT
DTSTART;TZID=America/Los_Angeles:20260228T080000
DTEND;TZID=America/Los_Angeles:20260228T090000
DTSTAMP:20260424T171337
CREATED:20250722T234534Z
LAST-MODIFIED:20250722T234534Z
UID:2029-1772265600-1772269200@spokanemontessori.com
SUMMARY:Montessori and Muffins
DESCRIPTION:
URL:https://spokanemontessori.com/calendar/montessori-and-muffins-4/
END:VEVENT
BEGIN:VEVENT
DTSTART;VALUE=DATE:20260227
DTEND;VALUE=DATE:20260228
DTSTAMP:20260424T171337
CREATED:20250722T234459Z
LAST-MODIFIED:20250722T234459Z
UID:2026-1772150400-1772236799@spokanemontessori.com
SUMMARY:Fall 2026 Registration due for current families
DESCRIPTION:
URL:https://spokanemontessori.com/calendar/fall-2026-registration-due-for-current-families/
END:VEVENT
BEGIN:VEVENT
DTSTART;TZID=America/Los_Angeles:20260223T163000
DTEND;TZID=America/Los_Angeles:20260223T163000
DTSTAMP:20260424T171337
CREATED:20250722T234437Z
LAST-MODIFIED:20250722T234437Z
UID:2023-1771864200-1771864200@spokanemontessori.com
SUMMARY:Early closure
DESCRIPTION:
URL:https://spokanemontessori.com/calendar/early-closure-10/
END:VEVENT
BEGIN:VEVENT
DTSTART;VALUE=DATE:20260216
DTEND;VALUE=DATE:20260217
DTSTAMP:20260424T171337
CREATED:20250722T234405Z
LAST-MODIFIED:20250722T234405Z
UID:2020-1771200000-1771286399@spokanemontessori.com
SUMMARY:Presidents Day – Closed
DESCRIPTION:
URL:https://spokanemontessori.com/calendar/presidents-day-closed/
CATEGORIES:Closure
END:VEVENT
BEGIN:VEVENT
DTSTART;TZID=America/Los_Angeles:20260204T160000
DTEND;TZID=America/Los_Angeles:20260204T170000
DTSTAMP:20260424T171337
CREATED:20250722T234336Z
LAST-MODIFIED:20250722T234336Z
UID:2017-1770220800-1770224400@spokanemontessori.com
SUMMARY:Pre-K Meeting
DESCRIPTION:
URL:https://spokanemontessori.com/calendar/pre-k-meeting-2/
END:VEVENT
BEGIN:VEVENT
DTSTART;VALUE=DATE:20260202
DTEND;VALUE=DATE:20260203
DTSTAMP:20260424T171337
CREATED:20250722T234308Z
LAST-MODIFIED:20250722T234308Z
UID:2014-1769990400-1770076799@spokanemontessori.com
SUMMARY:It’s that time again! Registration for fall 2026 begins!!
DESCRIPTION:
URL:https://spokanemontessori.com/calendar/its-that-time-again-registration-for-fall-2026-begins/
END:VEVENT
BEGIN:VEVENT
DTSTART;TZID=America/Los_Angeles:20260126T163000
DTEND;TZID=America/Los_Angeles:20260126T163000
DTSTAMP:20260424T171337
CREATED:20250722T234241Z
LAST-MODIFIED:20250722T234241Z
UID:2011-1769445000-1769445000@spokanemontessori.com
SUMMARY:Early closure
DESCRIPTION:
URL:https://spokanemontessori.com/calendar/early-closure-9/
END:VEVENT
BEGIN:VEVENT
DTSTART;TZID=America/Los_Angeles:20260124T080000
DTEND;TZID=America/Los_Angeles:20260124T090000
DTSTAMP:20260424T171337
CREATED:20250722T234217Z
LAST-MODIFIED:20250722T234217Z
UID:2008-1769241600-1769245200@spokanemontessori.com
SUMMARY:Montessori and Muffins
DESCRIPTION:
URL:https://spokanemontessori.com/calendar/montessori-and-muffins-3/
END:VEVENT
BEGIN:VEVENT
DTSTART;VALUE=DATE:20260119
DTEND;VALUE=DATE:20260120
DTSTAMP:20260424T171337
CREATED:20250722T234145Z
LAST-MODIFIED:20250722T234145Z
UID:2005-1768780800-1768867199@spokanemontessori.com
SUMMARY:Martin Luther King Jr. – Closed
DESCRIPTION:
URL:https://spokanemontessori.com/calendar/martin-luther-king-jr-closed/
CATEGORIES:Closure
END:VEVENT
BEGIN:VEVENT
DTSTART;VALUE=DATE:20251222
DTEND;VALUE=DATE:20260103
DTSTAMP:20260424T171337
CREATED:20250722T234114Z
LAST-MODIFIED:20250722T234114Z
UID:2002-1766361600-1767398399@spokanemontessori.com
SUMMARY:Have a great Winter Break! - Closed
DESCRIPTION:
URL:https://spokanemontessori.com/calendar/have-a-great-winter-break-closed/
CATEGORIES:Closure
END:VEVENT
BEGIN:VEVENT
DTSTART;VALUE=DATE:20251215
DTEND;VALUE=DATE:20251220
DTSTAMP:20260424T171337
CREATED:20250722T234042Z
LAST-MODIFIED:20250722T234042Z
UID:1999-1765756800-1766188799@spokanemontessori.com
SUMMARY:Winter family sing a long days
DESCRIPTION:9:00am – 9:30am – sign ups
URL:https://spokanemontessori.com/calendar/winter-family-sing-a-long-days/
END:VEVENT
BEGIN:VEVENT
DTSTART;VALUE=DATE:20251127
DTEND;VALUE=DATE:20251129
DTSTAMP:20260424T171337
CREATED:20250722T234001Z
LAST-MODIFIED:20250722T234001Z
UID:1996-1764201600-1764374399@spokanemontessori.com
SUMMARY:Happy Thanksgiving – Closed
DESCRIPTION:
URL:https://spokanemontessori.com/calendar/happy-thanksgiving-closed/
CATEGORIES:Closure
END:VEVENT
BEGIN:VEVENT
DTSTART;TZID=America/Los_Angeles:20251122T080000
DTEND;TZID=America/Los_Angeles:20251122T090000
DTSTAMP:20260424T171337
CREATED:20250722T233927Z
LAST-MODIFIED:20250722T233927Z
UID:1993-1763798400-1763802000@spokanemontessori.com
SUMMARY:Montessori and Muffins
DESCRIPTION:
URL:https://spokanemontessori.com/calendar/montessori-and-muffins-2/
END:VEVENT
BEGIN:VEVENT
DTSTART;VALUE=DATE:20251111
DTEND;VALUE=DATE:20251112
DTSTAMP:20260424T171337
CREATED:20250722T233855Z
LAST-MODIFIED:20250722T233855Z
UID:1990-1762819200-1762905599@spokanemontessori.com
SUMMARY:Veterans Day - Closed
DESCRIPTION:
URL:https://spokanemontessori.com/calendar/veterans-day-closed/
CATEGORIES:Closure
END:VEVENT
BEGIN:VEVENT
DTSTART;VALUE=DATE:20251103
DTEND;VALUE=DATE:20251104
DTSTAMP:20260424T171337
CREATED:20250722T233825Z
LAST-MODIFIED:20250722T235301Z
UID:1987-1762128000-1762214399@spokanemontessori.com
SUMMARY:Parent/Teacher Conferences
DESCRIPTION:(Sign ups required) – non-student day
URL:https://spokanemontessori.com/calendar/parent-teacher-conferences-3/
END:VEVENT
END:VCALENDAR