BEGIN:VCALENDAR
VERSION:2.0
PRODID:-//Spokane Montessori School - ECPv6.15.20//NONSGML v1.0//EN
CALSCALE:GREGORIAN
METHOD:PUBLISH
X-WR-CALNAME:Spokane Montessori School
X-ORIGINAL-URL:https://spokanemontessori.com
X-WR-CALDESC:Events for Spokane Montessori School
REFRESH-INTERVAL;VALUE=DURATION:PT1H
X-Robots-Tag:noindex
X-PUBLISHED-TTL:PT1H
BEGIN:VTIMEZONE
TZID:America/Los_Angeles
BEGIN:DAYLIGHT
TZOFFSETFROM:-0800
TZOFFSETTO:-0700
TZNAME:PDT
DTSTART:20230312T100000
END:DAYLIGHT
BEGIN:STANDARD
TZOFFSETFROM:-0700
TZOFFSETTO:-0800
TZNAME:PST
DTSTART:20231105T090000
END:STANDARD
BEGIN:DAYLIGHT
TZOFFSETFROM:-0800
TZOFFSETTO:-0700
TZNAME:PDT
DTSTART:20240310T100000
END:DAYLIGHT
BEGIN:STANDARD
TZOFFSETFROM:-0700
TZOFFSETTO:-0800
TZNAME:PST
DTSTART:20241103T090000
END:STANDARD
BEGIN:DAYLIGHT
TZOFFSETFROM:-0800
TZOFFSETTO:-0700
TZNAME:PDT
DTSTART:20250309T100000
END:DAYLIGHT
BEGIN:STANDARD
TZOFFSETFROM:-0700
TZOFFSETTO:-0800
TZNAME:PST
DTSTART:20251102T090000
END:STANDARD
BEGIN:DAYLIGHT
TZOFFSETFROM:-0800
TZOFFSETTO:-0700
TZNAME:PDT
DTSTART:20260308T100000
END:DAYLIGHT
BEGIN:STANDARD
TZOFFSETFROM:-0700
TZOFFSETTO:-0800
TZNAME:PST
DTSTART:20261101T090000
END:STANDARD
BEGIN:DAYLIGHT
TZOFFSETFROM:-0800
TZOFFSETTO:-0700
TZNAME:PDT
DTSTART:20270314T100000
END:DAYLIGHT
BEGIN:STANDARD
TZOFFSETFROM:-0700
TZOFFSETTO:-0800
TZNAME:PST
DTSTART:20271107T090000
END:STANDARD
END:VTIMEZONE
BEGIN:VEVENT
DTSTART;TZID=America/Los_Angeles:20260126T163000
DTEND;TZID=America/Los_Angeles:20260126T163000
DTSTAMP:20260424T141848
CREATED:20250722T234241Z
LAST-MODIFIED:20250722T234241Z
UID:2011-1769445000-1769445000@spokanemontessori.com
SUMMARY:Early closure
DESCRIPTION:
URL:https://spokanemontessori.com/calendar/early-closure-9/
END:VEVENT
BEGIN:VEVENT
DTSTART;TZID=America/Los_Angeles:20260124T080000
DTEND;TZID=America/Los_Angeles:20260124T090000
DTSTAMP:20260424T141848
CREATED:20250722T234217Z
LAST-MODIFIED:20250722T234217Z
UID:2008-1769241600-1769245200@spokanemontessori.com
SUMMARY:Montessori and Muffins
DESCRIPTION:
URL:https://spokanemontessori.com/calendar/montessori-and-muffins-3/
END:VEVENT
BEGIN:VEVENT
DTSTART;VALUE=DATE:20260119
DTEND;VALUE=DATE:20260120
DTSTAMP:20260424T141848
CREATED:20250722T234145Z
LAST-MODIFIED:20250722T234145Z
UID:2005-1768780800-1768867199@spokanemontessori.com
SUMMARY:Martin Luther King Jr. – Closed
DESCRIPTION:
URL:https://spokanemontessori.com/calendar/martin-luther-king-jr-closed/
CATEGORIES:Closure
END:VEVENT
BEGIN:VEVENT
DTSTART;VALUE=DATE:20251222
DTEND;VALUE=DATE:20260103
DTSTAMP:20260424T141848
CREATED:20250722T234114Z
LAST-MODIFIED:20250722T234114Z
UID:2002-1766361600-1767398399@spokanemontessori.com
SUMMARY:Have a great Winter Break! - Closed
DESCRIPTION:
URL:https://spokanemontessori.com/calendar/have-a-great-winter-break-closed/
CATEGORIES:Closure
END:VEVENT
BEGIN:VEVENT
DTSTART;VALUE=DATE:20251215
DTEND;VALUE=DATE:20251220
DTSTAMP:20260424T141848
CREATED:20250722T234042Z
LAST-MODIFIED:20250722T234042Z
UID:1999-1765756800-1766188799@spokanemontessori.com
SUMMARY:Winter family sing a long days
DESCRIPTION:9:00am – 9:30am – sign ups
URL:https://spokanemontessori.com/calendar/winter-family-sing-a-long-days/
END:VEVENT
BEGIN:VEVENT
DTSTART;VALUE=DATE:20251127
DTEND;VALUE=DATE:20251129
DTSTAMP:20260424T141848
CREATED:20250722T234001Z
LAST-MODIFIED:20250722T234001Z
UID:1996-1764201600-1764374399@spokanemontessori.com
SUMMARY:Happy Thanksgiving – Closed
DESCRIPTION:
URL:https://spokanemontessori.com/calendar/happy-thanksgiving-closed/
CATEGORIES:Closure
END:VEVENT
BEGIN:VEVENT
DTSTART;TZID=America/Los_Angeles:20251122T080000
DTEND;TZID=America/Los_Angeles:20251122T090000
DTSTAMP:20260424T141848
CREATED:20250722T233927Z
LAST-MODIFIED:20250722T233927Z
UID:1993-1763798400-1763802000@spokanemontessori.com
SUMMARY:Montessori and Muffins
DESCRIPTION:
URL:https://spokanemontessori.com/calendar/montessori-and-muffins-2/
END:VEVENT
BEGIN:VEVENT
DTSTART;VALUE=DATE:20251111
DTEND;VALUE=DATE:20251112
DTSTAMP:20260424T141848
CREATED:20250722T233855Z
LAST-MODIFIED:20250722T233855Z
UID:1990-1762819200-1762905599@spokanemontessori.com
SUMMARY:Veterans Day - Closed
DESCRIPTION:
URL:https://spokanemontessori.com/calendar/veterans-day-closed/
CATEGORIES:Closure
END:VEVENT
BEGIN:VEVENT
DTSTART;VALUE=DATE:20251103
DTEND;VALUE=DATE:20251104
DTSTAMP:20260424T141848
CREATED:20250722T233825Z
LAST-MODIFIED:20250722T235301Z
UID:1987-1762128000-1762214399@spokanemontessori.com
SUMMARY:Parent/Teacher Conferences
DESCRIPTION:(Sign ups required) – non-student day
URL:https://spokanemontessori.com/calendar/parent-teacher-conferences-3/
END:VEVENT
BEGIN:VEVENT
DTSTART;VALUE=DATE:20251031
DTEND;VALUE=DATE:20251101
DTSTAMP:20260424T141848
CREATED:20250722T232908Z
LAST-MODIFIED:20250722T232908Z
UID:1982-1761868800-1761955199@spokanemontessori.com
SUMMARY:Halloween!
DESCRIPTION:Non-violent costumes permitted – accessories stay at home!
URL:https://spokanemontessori.com/calendar/halloween/
END:VEVENT
BEGIN:VEVENT
DTSTART;TZID=America/Los_Angeles:20251027T163000
DTEND;TZID=America/Los_Angeles:20251027T163000
DTSTAMP:20260424T141848
CREATED:20250722T232838Z
LAST-MODIFIED:20250722T232838Z
UID:1979-1761582600-1761582600@spokanemontessori.com
SUMMARY:Early closure
DESCRIPTION:
URL:https://spokanemontessori.com/calendar/early-closure-8/
END:VEVENT
BEGIN:VEVENT
DTSTART;TZID=America/Los_Angeles:20251025T080000
DTEND;TZID=America/Los_Angeles:20251025T090000
DTSTAMP:20260424T141848
CREATED:20250722T232809Z
LAST-MODIFIED:20250722T232809Z
UID:1976-1761379200-1761382800@spokanemontessori.com
SUMMARY:Montessori and Muffins
DESCRIPTION:
URL:https://spokanemontessori.com/calendar/montessori-and-muffins/
END:VEVENT
BEGIN:VEVENT
DTSTART;TZID=America/Los_Angeles:20251001T150000
DTEND;TZID=America/Los_Angeles:20251001T170000
DTSTAMP:20260424T141848
CREATED:20250722T232736Z
LAST-MODIFIED:20250722T232736Z
UID:1973-1759330800-1759338000@spokanemontessori.com
SUMMARY:Outdoor Art Show and School Tour at SMS
DESCRIPTION:(weather permitting)
URL:https://spokanemontessori.com/calendar/outdoor-art-show-and-school-tour-at-sms/
END:VEVENT
BEGIN:VEVENT
DTSTART;TZID=America/Los_Angeles:20250929T163000
DTEND;TZID=America/Los_Angeles:20250929T163000
DTSTAMP:20260424T141848
CREATED:20250722T232659Z
LAST-MODIFIED:20250722T232659Z
UID:1970-1759163400-1759163400@spokanemontessori.com
SUMMARY:Early closure
DESCRIPTION:
URL:https://spokanemontessori.com/calendar/early-closure-7/
END:VEVENT
BEGIN:VEVENT
DTSTART;TZID=America/Los_Angeles:20250917T183000
DTEND;TZID=America/Los_Angeles:20250917T193000
DTSTAMP:20260424T141848
CREATED:20250722T232620Z
LAST-MODIFIED:20250722T232620Z
UID:1967-1758133800-1758137400@spokanemontessori.com
SUMMARY:Parent Education Night
DESCRIPTION:At least one parent/guardian per family in attendance
URL:https://spokanemontessori.com/calendar/parent-education-night-2/
END:VEVENT
BEGIN:VEVENT
DTSTART;VALUE=DATE:20250902
DTEND;VALUE=DATE:20250903
DTSTAMP:20260424T141848
CREATED:20250722T232544Z
LAST-MODIFIED:20250722T232544Z
UID:1964-1756771200-1756857599@spokanemontessori.com
SUMMARY:1st Day of School
DESCRIPTION:
URL:https://spokanemontessori.com/calendar/1st-day-of-school-2/
END:VEVENT
BEGIN:VEVENT
DTSTART;TZID=America/Los_Angeles:20240903T073000
DTEND;TZID=America/Los_Angeles:20240903T073000
DTSTAMP:20260424T141848
CREATED:20220811T225540Z
LAST-MODIFIED:20231108T223451Z
UID:810-1725348600-1725348600@spokanemontessori.com
SUMMARY:1st Day of School
DESCRIPTION:
URL:https://spokanemontessori.com/calendar/1st-day-of-school/
END:VEVENT
BEGIN:VEVENT
DTSTART;VALUE=DATE:20240902
DTEND;VALUE=DATE:20240903
DTSTAMP:20260424T141848
CREATED:20220830T212502Z
LAST-MODIFIED:20231108T223612Z
UID:1654-1725235200-1725321599@spokanemontessori.com
SUMMARY:Labor Day - Closed
DESCRIPTION:
URL:https://spokanemontessori.com/calendar/labor-day-closed/
CATEGORIES:Closure
END:VEVENT
BEGIN:VEVENT
DTSTART;TZID=America/Los_Angeles:20240829T090000
DTEND;TZID=America/Los_Angeles:20240829T120000
DTSTAMP:20260424T141848
CREATED:20220812T002227Z
LAST-MODIFIED:20231108T214633Z
UID:949-1724922000-1724932800@spokanemontessori.com
SUMMARY:New Student Orientation
DESCRIPTION:
URL:https://spokanemontessori.com/calendar/new-student-orientation-3/
END:VEVENT
BEGIN:VEVENT
DTSTART;TZID=America/Los_Angeles:20240828T090000
DTEND;TZID=America/Los_Angeles:20240828T110000
DTSTAMP:20260424T141848
CREATED:20220812T002140Z
LAST-MODIFIED:20231108T214801Z
UID:946-1724835600-1724842800@spokanemontessori.com
SUMMARY:New Student Orientation
DESCRIPTION:
URL:https://spokanemontessori.com/calendar/new-student-orientation-2/
END:VEVENT
BEGIN:VEVENT
DTSTART;TZID=America/Los_Angeles:20240827T090000
DTEND;TZID=America/Los_Angeles:20240827T100000
DTSTAMP:20260424T141848
CREATED:20220812T002109Z
LAST-MODIFIED:20231108T214926Z
UID:943-1724749200-1724752800@spokanemontessori.com
SUMMARY:New Student Orientation
DESCRIPTION:
URL:https://spokanemontessori.com/calendar/new-student-orientation/
END:VEVENT
BEGIN:VEVENT
DTSTART;VALUE=DATE:20240826
DTEND;VALUE=DATE:20240831
DTSTAMP:20260424T141848
CREATED:20220812T002011Z
LAST-MODIFIED:20231108T215147Z
UID:939-1724630400-1725062399@spokanemontessori.com
SUMMARY:Closed
DESCRIPTION:Closed for preparation of the new school year\, new student orientation and staff training.
URL:https://spokanemontessori.com/calendar/closed-2/
CATEGORIES:Closure
END:VEVENT
BEGIN:VEVENT
DTSTART;VALUE=DATE:20240704
DTEND;VALUE=DATE:20240706
DTSTAMP:20260424T141848
CREATED:20220812T001830Z
LAST-MODIFIED:20231108T215359Z
UID:933-1720051200-1720223999@spokanemontessori.com
SUMMARY:Closed
DESCRIPTION:
URL:https://spokanemontessori.com/calendar/closed/
CATEGORIES:Closure
END:VEVENT
BEGIN:VEVENT
DTSTART;VALUE=DATE:20240701
DTEND;VALUE=DATE:20240824
DTSTAMP:20260424T141848
CREATED:20220812T001901Z
LAST-MODIFIED:20231108T215258Z
UID:936-1719792000-1724457599@spokanemontessori.com
SUMMARY:Outdoor Summer Session
DESCRIPTION:
URL:https://spokanemontessori.com/calendar/outdoor-summer-session/
END:VEVENT
BEGIN:VEVENT
DTSTART;TZID=America/Los_Angeles:20240628T110000
DTEND;TZID=America/Los_Angeles:20240628T130000
DTSTAMP:20260424T141848
CREATED:20220812T001805Z
LAST-MODIFIED:20231108T215539Z
UID:930-1719572400-1719579600@spokanemontessori.com
SUMMARY:End of the Year Picnic and Kindergarten Graduation
DESCRIPTION:All family members invited! \nEarly Closure at 1:00pm
URL:https://spokanemontessori.com/calendar/end-of-the-year-picnic-and-kindergarten-graduation/
END:VEVENT
BEGIN:VEVENT
DTSTART;TZID=America/Los_Angeles:20240627T100000
DTEND;TZID=America/Los_Angeles:20240627T140000
DTSTAMP:20260424T141848
CREATED:20220812T001646Z
LAST-MODIFIED:20231108T215641Z
UID:927-1719482400-1719496800@spokanemontessori.com
SUMMARY:Kindergarten Field Trip!
DESCRIPTION:
URL:https://spokanemontessori.com/calendar/kindergarten-field-trip/
END:VEVENT
BEGIN:VEVENT
DTSTART;TZID=America/Los_Angeles:20240624T163000
DTEND;TZID=America/Los_Angeles:20240624T163000
DTSTAMP:20260424T141848
CREATED:20220830T213751Z
LAST-MODIFIED:20231108T220746Z
UID:1677-1719246600-1719246600@spokanemontessori.com
SUMMARY:Early Closure
DESCRIPTION:
URL:https://spokanemontessori.com/calendar/early-closure-6/
CATEGORIES:Closure
END:VEVENT
BEGIN:VEVENT
DTSTART;TZID=America/Los_Angeles:20240624T163000
DTEND;TZID=America/Los_Angeles:20240624T163000
DTSTAMP:20260424T141848
CREATED:20220812T001557Z
LAST-MODIFIED:20231108T215801Z
UID:924-1719246600-1719246600@spokanemontessori.com
SUMMARY:Early Closure: Staff Meeting
DESCRIPTION:
URL:https://spokanemontessori.com/calendar/early-closure-staff-meeting-3/
END:VEVENT
BEGIN:VEVENT
DTSTART;VALUE=DATE:20240619
DTEND;VALUE=DATE:20240620
DTSTAMP:20260424T141848
CREATED:20231108T215903Z
LAST-MODIFIED:20231108T215903Z
UID:1786-1718755200-1718841599@spokanemontessori.com
SUMMARY:Juneteenth - closed
DESCRIPTION:
URL:https://spokanemontessori.com/calendar/juneteenth-closed/
END:VEVENT
BEGIN:VEVENT
DTSTART;VALUE=DATE:20240527
DTEND;VALUE=DATE:20240528
DTSTAMP:20260424T141848
CREATED:20220812T001448Z
LAST-MODIFIED:20231108T220919Z
UID:918-1716768000-1716854399@spokanemontessori.com
SUMMARY:Closed: Memorial Day
DESCRIPTION:
URL:https://spokanemontessori.com/calendar/closed-memorial-day/
END:VEVENT
END:VCALENDAR