BEGIN:VCALENDAR
VERSION:2.0
PRODID:-//Spokane Montessori School - ECPv6.15.20//NONSGML v1.0//EN
CALSCALE:GREGORIAN
METHOD:PUBLISH
X-WR-CALNAME:Spokane Montessori School
X-ORIGINAL-URL:https://spokanemontessori.com
X-WR-CALDESC:Events for Spokane Montessori School
REFRESH-INTERVAL;VALUE=DURATION:PT1H
X-Robots-Tag:noindex
X-PUBLISHED-TTL:PT1H
BEGIN:VTIMEZONE
TZID:America/Los_Angeles
BEGIN:DAYLIGHT
TZOFFSETFROM:-0800
TZOFFSETTO:-0700
TZNAME:PDT
DTSTART:20220313T100000
END:DAYLIGHT
BEGIN:STANDARD
TZOFFSETFROM:-0700
TZOFFSETTO:-0800
TZNAME:PST
DTSTART:20221106T090000
END:STANDARD
BEGIN:DAYLIGHT
TZOFFSETFROM:-0800
TZOFFSETTO:-0700
TZNAME:PDT
DTSTART:20230312T100000
END:DAYLIGHT
BEGIN:STANDARD
TZOFFSETFROM:-0700
TZOFFSETTO:-0800
TZNAME:PST
DTSTART:20231105T090000
END:STANDARD
BEGIN:DAYLIGHT
TZOFFSETFROM:-0800
TZOFFSETTO:-0700
TZNAME:PDT
DTSTART:20240310T100000
END:DAYLIGHT
BEGIN:STANDARD
TZOFFSETFROM:-0700
TZOFFSETTO:-0800
TZNAME:PST
DTSTART:20241103T090000
END:STANDARD
BEGIN:DAYLIGHT
TZOFFSETFROM:-0800
TZOFFSETTO:-0700
TZNAME:PDT
DTSTART:20250309T100000
END:DAYLIGHT
BEGIN:STANDARD
TZOFFSETFROM:-0700
TZOFFSETTO:-0800
TZNAME:PST
DTSTART:20251102T090000
END:STANDARD
END:VTIMEZONE
BEGIN:VEVENT
DTSTART;TZID=America/Los_Angeles:20240628T110000
DTEND;TZID=America/Los_Angeles:20240628T130000
DTSTAMP:20260424T172839
CREATED:20220812T001805Z
LAST-MODIFIED:20231108T215539Z
UID:930-1719572400-1719579600@spokanemontessori.com
SUMMARY:End of the Year Picnic and Kindergarten Graduation
DESCRIPTION:All family members invited! \nEarly Closure at 1:00pm
URL:https://spokanemontessori.com/calendar/end-of-the-year-picnic-and-kindergarten-graduation/
END:VEVENT
BEGIN:VEVENT
DTSTART;TZID=America/Los_Angeles:20240627T100000
DTEND;TZID=America/Los_Angeles:20240627T140000
DTSTAMP:20260424T172839
CREATED:20220812T001646Z
LAST-MODIFIED:20231108T215641Z
UID:927-1719482400-1719496800@spokanemontessori.com
SUMMARY:Kindergarten Field Trip!
DESCRIPTION:
URL:https://spokanemontessori.com/calendar/kindergarten-field-trip/
END:VEVENT
BEGIN:VEVENT
DTSTART;TZID=America/Los_Angeles:20240624T163000
DTEND;TZID=America/Los_Angeles:20240624T163000
DTSTAMP:20260424T172839
CREATED:20220830T213751Z
LAST-MODIFIED:20231108T220746Z
UID:1677-1719246600-1719246600@spokanemontessori.com
SUMMARY:Early Closure
DESCRIPTION:
URL:https://spokanemontessori.com/calendar/early-closure-6/
CATEGORIES:Closure
END:VEVENT
BEGIN:VEVENT
DTSTART;TZID=America/Los_Angeles:20240624T163000
DTEND;TZID=America/Los_Angeles:20240624T163000
DTSTAMP:20260424T172839
CREATED:20220812T001557Z
LAST-MODIFIED:20231108T215801Z
UID:924-1719246600-1719246600@spokanemontessori.com
SUMMARY:Early Closure: Staff Meeting
DESCRIPTION:
URL:https://spokanemontessori.com/calendar/early-closure-staff-meeting-3/
END:VEVENT
BEGIN:VEVENT
DTSTART;VALUE=DATE:20240619
DTEND;VALUE=DATE:20240620
DTSTAMP:20260424T172839
CREATED:20231108T215903Z
LAST-MODIFIED:20231108T215903Z
UID:1786-1718755200-1718841599@spokanemontessori.com
SUMMARY:Juneteenth - closed
DESCRIPTION:
URL:https://spokanemontessori.com/calendar/juneteenth-closed/
END:VEVENT
BEGIN:VEVENT
DTSTART;VALUE=DATE:20240527
DTEND;VALUE=DATE:20240528
DTSTAMP:20260424T172839
CREATED:20220812T001448Z
LAST-MODIFIED:20231108T220919Z
UID:918-1716768000-1716854399@spokanemontessori.com
SUMMARY:Closed: Memorial Day
DESCRIPTION:
URL:https://spokanemontessori.com/calendar/closed-memorial-day/
END:VEVENT
BEGIN:VEVENT
DTSTART;TZID=America/Los_Angeles:20240520T163000
DTEND;TZID=America/Los_Angeles:20240520T163000
DTSTAMP:20260424T172839
CREATED:20220812T001422Z
LAST-MODIFIED:20231108T221041Z
UID:915-1716222600-1716222600@spokanemontessori.com
SUMMARY:Early Closure
DESCRIPTION:
URL:https://spokanemontessori.com/calendar/early-closure-staff-meeting-2/
END:VEVENT
BEGIN:VEVENT
DTSTART;TZID=America/Los_Angeles:20240504T090000
DTEND;TZID=America/Los_Angeles:20240504T120000
DTSTAMP:20260424T172839
CREATED:20220812T001348Z
LAST-MODIFIED:20231108T221129Z
UID:912-1714813200-1714824000@spokanemontessori.com
SUMMARY:Community Building Workday: All Families Welcome!
DESCRIPTION:
URL:https://spokanemontessori.com/calendar/community-building-workday-all-families-welcome/
END:VEVENT
BEGIN:VEVENT
DTSTART;TZID=America/Los_Angeles:20240430T150000
DTEND;TZID=America/Los_Angeles:20240430T170000
DTSTAMP:20260424T172839
CREATED:20220812T000925Z
LAST-MODIFIED:20231108T221216Z
UID:896-1714489200-1714496400@spokanemontessori.com
SUMMARY:Montessori Showcase
DESCRIPTION:Time TBA
URL:https://spokanemontessori.com/calendar/montessori-showcase/
END:VEVENT
BEGIN:VEVENT
DTSTART;TZID=America/Los_Angeles:20240422T163000
DTEND;TZID=America/Los_Angeles:20240422T163000
DTSTAMP:20260424T172839
CREATED:20220812T000828Z
LAST-MODIFIED:20231108T221258Z
UID:893-1713803400-1713803400@spokanemontessori.com
SUMMARY:Early Closure: Staff Meeting
DESCRIPTION:
URL:https://spokanemontessori.com/calendar/early-closure-staff-meeting/
END:VEVENT
BEGIN:VEVENT
DTSTART;VALUE=DATE:20240401
DTEND;VALUE=DATE:20240406
DTSTAMP:20260424T172839
CREATED:20220812T000748Z
LAST-MODIFIED:20231108T221358Z
UID:890-1711929600-1712361599@spokanemontessori.com
SUMMARY:Closed: Spring Break!
DESCRIPTION:
URL:https://spokanemontessori.com/calendar/closed-spring-break/
CATEGORIES:Closure
END:VEVENT
BEGIN:VEVENT
DTSTART;TZID=America/Los_Angeles:20240322T070000
DTEND;TZID=America/Los_Angeles:20240322T130000
DTSTAMP:20260424T172839
CREATED:20220812T000713Z
LAST-MODIFIED:20231108T221457Z
UID:887-1711090800-1711112400@spokanemontessori.com
SUMMARY:Parent / Teacher Conferences
DESCRIPTION:Sign ups required. Non-student day.
URL:https://spokanemontessori.com/calendar/parent-teacher-conferences-2/
END:VEVENT
BEGIN:VEVENT
DTSTART;VALUE=DATE:20240322
DTEND;VALUE=DATE:20240323
DTSTAMP:20260424T172839
CREATED:20220830T213225Z
LAST-MODIFIED:20231108T221624Z
UID:1671-1711065600-1711151999@spokanemontessori.com
SUMMARY:Non-Student Day
DESCRIPTION:
URL:https://spokanemontessori.com/calendar/non-student-day-2/
CATEGORIES:Closure
END:VEVENT
BEGIN:VEVENT
DTSTART;TZID=America/Los_Angeles:20240309T100000
DTEND;TZID=America/Los_Angeles:20240309T110000
DTSTAMP:20260424T172839
CREATED:20220812T000610Z
LAST-MODIFIED:20231108T221718Z
UID:884-1709978400-1709982000@spokanemontessori.com
SUMMARY:Open House for Prospective Families
DESCRIPTION:Tell your friends!
URL:https://spokanemontessori.com/calendar/open-house-for-prospective-families/
END:VEVENT
BEGIN:VEVENT
DTSTART;TZID=America/Los_Angeles:20240229T170000
DTEND;TZID=America/Los_Angeles:20240229T170000
DTSTAMP:20260424T172839
CREATED:20220812T000529Z
LAST-MODIFIED:20231108T221814Z
UID:881-1709226000-1709226000@spokanemontessori.com
SUMMARY:Registration Due
DESCRIPTION:
URL:https://spokanemontessori.com/calendar/registration-due/
END:VEVENT
BEGIN:VEVENT
DTSTART;TZID=America/Los_Angeles:20240226T163000
DTEND;TZID=America/Los_Angeles:20240226T163000
DTSTAMP:20260424T172839
CREATED:20220812T000457Z
LAST-MODIFIED:20231108T221904Z
UID:878-1708965000-1708965000@spokanemontessori.com
SUMMARY:Early Closure: Staff Meeting
DESCRIPTION:
URL:https://spokanemontessori.com/calendar/early-closure-4/
END:VEVENT
BEGIN:VEVENT
DTSTART;VALUE=DATE:20240219
DTEND;VALUE=DATE:20240220
DTSTAMP:20260424T172839
CREATED:20220812T000425Z
LAST-MODIFIED:20231108T221952Z
UID:874-1708300800-1708387199@spokanemontessori.com
SUMMARY:Closed: Presidents Day
DESCRIPTION:
URL:https://spokanemontessori.com/calendar/closed-presidents-day/
CATEGORIES:Closure
END:VEVENT
BEGIN:VEVENT
DTSTART;TZID=America/Los_Angeles:20240207T160000
DTEND;TZID=America/Los_Angeles:20240207T170000
DTSTAMP:20260424T172839
CREATED:20220812T000358Z
LAST-MODIFIED:20231108T222103Z
UID:872-1707321600-1707325200@spokanemontessori.com
SUMMARY:Pre-K Meeting
DESCRIPTION:
URL:https://spokanemontessori.com/calendar/pre-k-meeting/
END:VEVENT
BEGIN:VEVENT
DTSTART;TZID=America/Los_Angeles:20240201T073000
DTEND;TZID=America/Los_Angeles:20240201T170000
DTSTAMP:20260424T172839
CREATED:20220812T000312Z
LAST-MODIFIED:20231108T222152Z
UID:869-1706772600-1706806800@spokanemontessori.com
SUMMARY:Registration for Fall 2024 begins!!
DESCRIPTION:It’s that time again!
URL:https://spokanemontessori.com/calendar/registration-for-fall-2023-begins/
END:VEVENT
BEGIN:VEVENT
DTSTART;TZID=America/Los_Angeles:20240124T183000
DTEND;TZID=America/Los_Angeles:20240124T200000
DTSTAMP:20260424T172839
CREATED:20220812T000155Z
LAST-MODIFIED:20231108T222252Z
UID:866-1706121000-1706126400@spokanemontessori.com
SUMMARY:Book Club Meeting
DESCRIPTION:
URL:https://spokanemontessori.com/calendar/book-club-meeting/
END:VEVENT
BEGIN:VEVENT
DTSTART;TZID=America/Los_Angeles:20240122T163000
DTEND;TZID=America/Los_Angeles:20240122T163000
DTSTAMP:20260424T172839
CREATED:20220812T000048Z
LAST-MODIFIED:20231108T222331Z
UID:863-1705941000-1705941000@spokanemontessori.com
SUMMARY:Early Closure: Staff Meeting
DESCRIPTION:
URL:https://spokanemontessori.com/calendar/early-closure-3/
END:VEVENT
BEGIN:VEVENT
DTSTART;VALUE=DATE:20240115
DTEND;VALUE=DATE:20240116
DTSTAMP:20260424T172839
CREATED:20220811T235919Z
LAST-MODIFIED:20231108T222420Z
UID:859-1705276800-1705363199@spokanemontessori.com
SUMMARY:Closed: Martin Luther King Jr.
DESCRIPTION:
URL:https://spokanemontessori.com/calendar/closed-martin-luther-king-jr/
CATEGORIES:Closure
END:VEVENT
BEGIN:VEVENT
DTSTART;VALUE=DATE:20231221
DTEND;VALUE=DATE:20240103
DTSTAMP:20260424T172839
CREATED:20220811T235831Z
LAST-MODIFIED:20231108T222514Z
UID:856-1703116800-1704239999@spokanemontessori.com
SUMMARY:Closed: Have a Great Winter Break!
DESCRIPTION:
URL:https://spokanemontessori.com/calendar/closed-have-a-great-winter-break/
CATEGORIES:Closure
END:VEVENT
BEGIN:VEVENT
DTSTART;TZID=America/Los_Angeles:20231215T120000
DTEND;TZID=America/Los_Angeles:20231215T130000
DTSTAMP:20260424T172839
CREATED:20220811T235733Z
LAST-MODIFIED:20231108T222553Z
UID:853-1702641600-1702645200@spokanemontessori.com
SUMMARY:Winter Program via Zoom
DESCRIPTION:
URL:https://spokanemontessori.com/calendar/winter-program-via-zoom/
END:VEVENT
BEGIN:VEVENT
DTSTART;TZID=America/Los_Angeles:20231202T090000
DTEND;TZID=America/Los_Angeles:20231202T150000
DTSTAMP:20260424T172839
CREATED:20220811T235551Z
LAST-MODIFIED:20231108T222631Z
UID:849-1701507600-1701529200@spokanemontessori.com
SUMMARY:Parent Appreciation Day
DESCRIPTION:So parents can Christmas shop or ski with out kids 🙂
URL:https://spokanemontessori.com/calendar/parent-appreciation-day/
END:VEVENT
BEGIN:VEVENT
DTSTART;TZID=America/Los_Angeles:20231123T130000
DTEND;TZID=America/Los_Angeles:20231123T130000
DTSTAMP:20260424T172839
CREATED:20220830T212832Z
LAST-MODIFIED:20231108T222932Z
UID:1663-1700744400-1700744400@spokanemontessori.com
SUMMARY:Early Closure
DESCRIPTION:
URL:https://spokanemontessori.com/calendar/early-closure-5/
END:VEVENT
BEGIN:VEVENT
DTSTART;VALUE=DATE:20231123
DTEND;VALUE=DATE:20231125
DTSTAMP:20260424T172839
CREATED:20220811T233801Z
LAST-MODIFIED:20231108T222711Z
UID:841-1700697600-1700870399@spokanemontessori.com
SUMMARY:Closed: Happy Thanksgiving
DESCRIPTION:
URL:https://spokanemontessori.com/calendar/closed-happy-thanksgiving/
END:VEVENT
BEGIN:VEVENT
DTSTART;TZID=America/Los_Angeles:20231122T110000
DTEND;TZID=America/Los_Angeles:20231122T113000
DTSTAMP:20260424T172839
CREATED:20220811T233711Z
LAST-MODIFIED:20231108T222804Z
UID:838-1700650800-1700652600@spokanemontessori.com
SUMMARY:Thanksgiving Program via Zoom
DESCRIPTION:
URL:https://spokanemontessori.com/calendar/thanksgiving-program-via-zoom-early-closure/
END:VEVENT
BEGIN:VEVENT
DTSTART;VALUE=DATE:20231110
DTEND;VALUE=DATE:20231111
DTSTAMP:20260424T172839
CREATED:20220811T233513Z
LAST-MODIFIED:20231108T222843Z
UID:835-1699574400-1699660799@spokanemontessori.com
SUMMARY:Closed: Veteran's Day
DESCRIPTION:
URL:https://spokanemontessori.com/calendar/closed-veterans-day/
CATEGORIES:Closure
END:VEVENT
BEGIN:VEVENT
DTSTART;TZID=America/Los_Angeles:20231103T070000
DTEND;TZID=America/Los_Angeles:20231103T130000
DTSTAMP:20260424T172839
CREATED:20220811T233401Z
LAST-MODIFIED:20231108T223020Z
UID:832-1698994800-1699016400@spokanemontessori.com
SUMMARY:Parent/Teacher Conferences
DESCRIPTION:Sign ups required. Non-student day.
URL:https://spokanemontessori.com/calendar/parent-teacher-conferences/
END:VEVENT
END:VCALENDAR